BEGIN:VCALENDAR
VERSION:2.0
PRODID:-//NAHQ - ECPv6.15.17.1//NONSGML v1.0//EN
CALSCALE:GREGORIAN
METHOD:PUBLISH
X-WR-CALNAME:NAHQ
X-ORIGINAL-URL:https://nahqdev.exemplifi.io
X-WR-CALDESC:Events for NAHQ
REFRESH-INTERVAL;VALUE=DURATION:PT1H
X-Robots-Tag:noindex
X-PUBLISHED-TTL:PT1H
BEGIN:VTIMEZONE
TZID:America/Chicago
BEGIN:DAYLIGHT
TZOFFSETFROM:-0600
TZOFFSETTO:-0500
TZNAME:CDT
DTSTART:20230312T080000
END:DAYLIGHT
BEGIN:STANDARD
TZOFFSETFROM:-0500
TZOFFSETTO:-0600
TZNAME:CST
DTSTART:20231105T070000
END:STANDARD
BEGIN:DAYLIGHT
TZOFFSETFROM:-0600
TZOFFSETTO:-0500
TZNAME:CDT
DTSTART:20240310T080000
END:DAYLIGHT
BEGIN:STANDARD
TZOFFSETFROM:-0500
TZOFFSETTO:-0600
TZNAME:CST
DTSTART:20241103T070000
END:STANDARD
BEGIN:DAYLIGHT
TZOFFSETFROM:-0600
TZOFFSETTO:-0500
TZNAME:CDT
DTSTART:20250309T080000
END:DAYLIGHT
BEGIN:STANDARD
TZOFFSETFROM:-0500
TZOFFSETTO:-0600
TZNAME:CST
DTSTART:20251102T070000
END:STANDARD
END:VTIMEZONE
BEGIN:VEVENT
DTSTART;TZID=America/Chicago:20240930T000000
DTEND;TZID=America/Chicago:20241218T160000
DTSTAMP:20260423T014014
CREATED:20240607T080524Z
LAST-MODIFIED:20241204T133912Z
UID:27029-1727654400-1734537600@nahqdev.exemplifi.io
SUMMARY:Better Quality Through Better Measurement Online Course with Coaching
DESCRIPTION:In this program\, you will discover what quality measurement is and why it matters\, how to set a clear and achievable aim\, how to define a family of measures tightly linked to your aim\, how to choose and collect the right data\, and how to display and analyze your data in run and control charts to support improvement. Bring your own improvement project or idea and apply course concepts\, tools\, and methods or choose from several case studies to use as you apply course learnings. You will benefit from online lessons\, live webinars\, case studies\, coaching\, and peer interaction.
URL:https://nahqdev.exemplifi.io/event/better-quality-through-better-measurement-online-course-with-coaching/
ATTACH;FMTTYPE=image/png:https://cdn.nahq.org/wp-content/uploads/2024/10/NAHQ_SearchImage_Event_Industry.png
END:VEVENT
BEGIN:VEVENT
DTSTART;VALUE=DATE:20241020
DTEND;VALUE=DATE:20241027
DTSTAMP:20260423T014014
CREATED:20230110T211247Z
LAST-MODIFIED:20250915T182706Z
UID:13503-1729382400-1729987199@nahqdev.exemplifi.io
SUMMARY:Healthcare Quality Week 2024
DESCRIPTION:Save the Date! \nHealthcare Quality Week (HQW) is a dedicated time to acknowledge the progress made by healthcare and quality professionals toward improving patient outcomes and to prepare ourselves for the many challenges and opportunities that lie ahead. \nLearn more about the event. \n  \nHealthcare Quality Week History \nHealthcare Quality Week was established by the National Association of Healthcare Quality (NAHQ) in 1985\, to recognize and celebrate the contribution of healthcare quality experts in their various organizations. Held on the third week of October each year\, NAHQ holds a week-long celebration in collaboration with groups dedicated to improving healthcare quality. In 1985\, NAHQ received a letter from President Ronald Reagan supporting Healthcare Quality Week. In 2009\, NAHQ started their first-year partnership with Institute for Healthcare Improvement (IHI) to celebrate Healthcare Quality Week and one year later in 2010\, NAHQ members had access to free patient resources during Healthcare Quality Week thanks to a partnership with the Agency for Health Research and Quality (AHRQ). \n  \n\n\n\n\n\n\n\n\nCPHQ CE Credits
URL:https://nahqdev.exemplifi.io/event/healthcare-quality-week-2024/
ATTACH;FMTTYPE=image/png:https://cdn.nahq.org/wp-content/uploads/2023/01/HQW24_Email_logowdate_lines.png
END:VEVENT
END:VCALENDAR